BEGIN:VCALENDAR
VERSION:2.0
PRODID:-//Spirit &amp; Place, IU Indianapolis - ECPv6.15.19//NONSGML v1.0//EN
CALSCALE:GREGORIAN
METHOD:PUBLISH
X-WR-CALNAME:Spirit &amp; Place, IU Indianapolis
X-ORIGINAL-URL:https://spiritandplace.org
X-WR-CALDESC:Events for Spirit &amp; Place, IU Indianapolis
REFRESH-INTERVAL;VALUE=DURATION:PT1H
X-Robots-Tag:noindex
X-PUBLISHED-TTL:PT1H
BEGIN:VTIMEZONE
TZID:America/Indiana/Indianapolis
BEGIN:DAYLIGHT
TZOFFSETFROM:-0500
TZOFFSETTO:-0400
TZNAME:EDT
DTSTART:20210314T070000
END:DAYLIGHT
BEGIN:STANDARD
TZOFFSETFROM:-0400
TZOFFSETTO:-0500
TZNAME:EST
DTSTART:20211107T060000
END:STANDARD
BEGIN:DAYLIGHT
TZOFFSETFROM:-0500
TZOFFSETTO:-0400
TZNAME:EDT
DTSTART:20220313T070000
END:DAYLIGHT
BEGIN:STANDARD
TZOFFSETFROM:-0400
TZOFFSETTO:-0500
TZNAME:EST
DTSTART:20221106T060000
END:STANDARD
BEGIN:DAYLIGHT
TZOFFSETFROM:-0500
TZOFFSETTO:-0400
TZNAME:EDT
DTSTART:20230312T070000
END:DAYLIGHT
BEGIN:STANDARD
TZOFFSETFROM:-0400
TZOFFSETTO:-0500
TZNAME:EST
DTSTART:20231105T060000
END:STANDARD
END:VTIMEZONE
BEGIN:VEVENT
DTSTART;TZID=America/Indiana/Indianapolis:20221106T090000
DTEND;TZID=America/Indiana/Indianapolis:20221106T103000
DTSTAMP:20260419T141953
CREATED:20220826T183635Z
LAST-MODIFIED:20220830T004459Z
UID:10001550-1667725200-1667730600@spiritandplace.org
SUMMARY:Jadzia\, My Beloved Old Friend! Gender Representation in Science Fiction
DESCRIPTION:As with many political and socially sensitive topics\, SciFi has long created a safe space to fully explore one’s identity. Hear from SciFi fans who have explored – and embraced – their gender and sexual identities through the art and power of science fiction. \nThis inclusive and welcoming event features a moderated discussion with SciFi fans who have a nontraditional experience with their own gender identity or sexual orientation. They will explore inspirational models they’ve encountered in SciFi stories and how these models have affected their own journeys. A wider discussion will also examine some of the ways SciFi has represented gender\, romance\, and sexual orientation through film\, writing\, and even fannish gatherings (e.g.\, cosplay) and how these spaces of imagination create accepting environments that encourage a full exploration of one’s identity. \nA partnership between Starbase Indy\, Gender Nexus\, and Center for Inquiry. \nContact the event organizers at 317-626-2163 or Lisa_meece@starbaseindy.org.  \nWalk-ins welcome\, but registration is strongly encouraged by Nov. 6.  \nRegister below.
URL:https://spiritandplace.org/event/jadzia-my-beloved-old-friend-gender-representation-in-science-fiction/
LOCATION:Center for Inquiry\, 350 Canal Walk\, Ste. A\, Indianapolis\, IN\, 46202\, United States
CATEGORIES:Award of Awesomeness Nominee,festival,Panel Discussion
GEO:39.7726788;-86.1653639
X-APPLE-STRUCTURED-LOCATION;VALUE=URI;X-ADDRESS=Center for Inquiry 350 Canal Walk Ste. A Indianapolis IN 46202 United States;X-APPLE-RADIUS=500;X-TITLE=350 Canal Walk\, Ste. A:geo:-86.1653639,39.7726788
END:VEVENT
BEGIN:VEVENT
DTSTART;TZID=America/Indiana/Indianapolis:20221106T110000
DTEND;TZID=America/Indiana/Indianapolis:20221106T123000
DTSTAMP:20260419T141953
CREATED:20220826T183512Z
LAST-MODIFIED:20221031T202704Z
UID:10001549-1667732400-1667737800@spiritandplace.org
SUMMARY:Voting in Indiana: The Past\, The Present\, and the Future
DESCRIPTION:What are the unique ways we can persuade Hoosiers to identify as voters? Together we will explore what shapes our personal identities as voters and how we can  influence others to embrace the statement\, “I am a voter!” \nFocusing on individual and collective identity\, this event will engage guests on the history of voting in Indiana and\, using the arts\, encourage attendees to clarify what it means to identify as a voter. Examine how your own voting identity has been shaped and imagine ways we can work to create a stronger culture of voting in Indiana by helping others embrace a “voter” identity. Attendees will be inspired by short performances and make their own “Why I Vote” yard signs. Together\, we will find new ways to convince those reluctant to vote to engage in this most basic form of our democracy. \nJoin us early for a short performance at 3:45pm and be inspired by some awesome\, young break dancers and future voters. \nA partnership between Indiana Vote by Mail\, League of Women Voters of Indiana\, and St. Luke’s United Methodist Church. \nContact the event organizers at 317-408-3222 or barbtullyINVBM@gmail.com. \nThis is a hybrid event with both in-person and virtual participation options. Walk-ins welcome but registration is strongly encouraged by Nov. 5. \nFor ONLINE ATTENDANCE\, click here  (participation on Zoom; remember to include a shipping address to receive yard sign supplies!) \nFor IN-PERSON ATTENDANCE\, click here (St. Luke’s Methodist\, 100 W. 86th St.\, Indianapolis) \nPhoto by Jack Moreh from Freerange Stock
URL:https://spiritandplace.org/event/voting-in-indiana-the-past-the-present-and-the-future/
LOCATION:St. Luke’s United Methodist Church\, 100 W. 86th St.\, Indianapolis\, IN\, 46260\, United States
CATEGORIES:festival,Workshop
GEO:39.9133041;-86.16134
X-APPLE-STRUCTURED-LOCATION;VALUE=URI;X-ADDRESS=St. Luke’s United Methodist Church 100 W. 86th St. Indianapolis IN 46260 United States;X-APPLE-RADIUS=500;X-TITLE=100 W. 86th St.:geo:-86.16134,39.9133041
END:VEVENT
END:VCALENDAR