BEGIN:VCALENDAR
VERSION:2.0
PRODID:-//Spirit &amp; Place, IU Indianapolis - ECPv6.15.19//NONSGML v1.0//EN
CALSCALE:GREGORIAN
METHOD:PUBLISH
X-WR-CALNAME:Spirit &amp; Place, IU Indianapolis
X-ORIGINAL-URL:https://spiritandplace.org
X-WR-CALDESC:Events for Spirit &amp; Place, IU Indianapolis
REFRESH-INTERVAL;VALUE=DURATION:PT1H
X-Robots-Tag:noindex
X-PUBLISHED-TTL:PT1H
BEGIN:VTIMEZONE
TZID:America/Indiana/Indianapolis
BEGIN:DAYLIGHT
TZOFFSETFROM:-0500
TZOFFSETTO:-0400
TZNAME:EDT
DTSTART:20230312T070000
END:DAYLIGHT
BEGIN:STANDARD
TZOFFSETFROM:-0400
TZOFFSETTO:-0500
TZNAME:EST
DTSTART:20231105T060000
END:STANDARD
BEGIN:DAYLIGHT
TZOFFSETFROM:-0500
TZOFFSETTO:-0400
TZNAME:EDT
DTSTART:20240310T070000
END:DAYLIGHT
BEGIN:STANDARD
TZOFFSETFROM:-0400
TZOFFSETTO:-0500
TZNAME:EST
DTSTART:20241103T060000
END:STANDARD
BEGIN:DAYLIGHT
TZOFFSETFROM:-0500
TZOFFSETTO:-0400
TZNAME:EDT
DTSTART:20250309T070000
END:DAYLIGHT
BEGIN:STANDARD
TZOFFSETFROM:-0400
TZOFFSETTO:-0500
TZNAME:EST
DTSTART:20251102T060000
END:STANDARD
END:VTIMEZONE
BEGIN:VEVENT
DTSTART;TZID=America/Indiana/Indianapolis:20241110T110000
DTEND;TZID=America/Indiana/Indianapolis:20241110T130000
DTSTAMP:20260420T234240
CREATED:20240828T222904Z
LAST-MODIFIED:20241021T234217Z
UID:10001607-1731236400-1731243600@spiritandplace.org
SUMMARY:29th Annual Public Conversation featuring Dacher Keltner & Ebony Chappel moderated by R. Eric Thomas
DESCRIPTION:ASL Interpreted.\nArtwork is audio described. \nWhat might a psychology scholar\, local creative\, and best-selling author and storyteller have to say about GRATITUDE? Join us and find out! \nThis year’s Public Conversation features Dacher Keltner who is the founder of the Greater Good Science Center and author of Awe: The Science of Everyday Wonder and How It Can Transform Your Life and award-winning multimedia journalist\, business owner and local community leader\,  Ebony Chappel.  Moderated by R. Eric Thomas – best-selling author of Here for It\, or\, How to Save your Soul in America and Congratulations\, The Best is Over! – we are sure this year’s conversation will be filled with some amazing (and affirming) twists and turns! \nBONUS!!\nArtist Shamira Wilson will debut a new painting inspired by the GRATITUDE theme during a pre-event reception. Wilson’s commission by Spirit & Place was made possible in part by Noblesville Creative and the Indiana Arts Commission\, which receives support from the State of Indiana and the National Endowment for the Arts. \nDoors open and (cash bar) reception begins at 4PM. The conversation begins promptly at 4:30PM. \nQuestions?: Contact 317-274-2462 or festival@iu.edu. \nEvent Organizers: Presented by Spirit & Place\, GANGGANG\, and the Indiana Medical History Museum with grant support from Indiana Humanities in cooperation with the National Endowment for the Humanities\, and from The Indianapolis Foundation\, a CICF affiliate. \nRegistration: Limited seating\, registration required. Registration will open in early October. \nParking Map:  Visionloft STUTZparking. Parking is an adventure downtown! Be prepared. (And remember metered parking is free on Sunday.) \n 
URL:https://spiritandplace.org/event/29th-annual-public-conversation/
LOCATION:Visionloft at the Stutz\, 1060 N. Capitol Ave.\, Indianapolis\, 46202\, United States
CATEGORIES:festival,Moderated Conversation
GEO:39.7816203;-86.1619818
X-APPLE-STRUCTURED-LOCATION;VALUE=URI;X-ADDRESS=Visionloft at the Stutz 1060 N. Capitol Ave. Indianapolis 46202 United States;X-APPLE-RADIUS=500;X-TITLE=1060 N. Capitol Ave.:geo:-86.1619818,39.7816203
END:VEVENT
END:VCALENDAR