BEGIN:VCALENDAR
VERSION:2.0
PRODID:-//Spirit &amp; Place, IU Indianapolis - ECPv6.15.19//NONSGML v1.0//EN
CALSCALE:GREGORIAN
METHOD:PUBLISH
X-WR-CALNAME:Spirit &amp; Place, IU Indianapolis
X-ORIGINAL-URL:https://spiritandplace.org
X-WR-CALDESC:Events for Spirit &amp; Place, IU Indianapolis
REFRESH-INTERVAL;VALUE=DURATION:PT1H
X-Robots-Tag:noindex
X-PUBLISHED-TTL:PT1H
BEGIN:VTIMEZONE
TZID:America/Indiana/Indianapolis
BEGIN:DAYLIGHT
TZOFFSETFROM:-0500
TZOFFSETTO:-0400
TZNAME:EDT
DTSTART:20240310T070000
END:DAYLIGHT
BEGIN:STANDARD
TZOFFSETFROM:-0400
TZOFFSETTO:-0500
TZNAME:EST
DTSTART:20241103T060000
END:STANDARD
BEGIN:DAYLIGHT
TZOFFSETFROM:-0500
TZOFFSETTO:-0400
TZNAME:EDT
DTSTART:20250309T070000
END:DAYLIGHT
BEGIN:STANDARD
TZOFFSETFROM:-0400
TZOFFSETTO:-0500
TZNAME:EST
DTSTART:20251102T060000
END:STANDARD
BEGIN:DAYLIGHT
TZOFFSETFROM:-0500
TZOFFSETTO:-0400
TZNAME:EDT
DTSTART:20260308T070000
END:DAYLIGHT
BEGIN:STANDARD
TZOFFSETFROM:-0400
TZOFFSETTO:-0500
TZNAME:EST
DTSTART:20261101T060000
END:STANDARD
END:VTIMEZONE
BEGIN:VEVENT
DTSTART;TZID=America/Indiana/Indianapolis:20250409T080000
DTEND;TZID=America/Indiana/Indianapolis:20250409T090000
DTSTAMP:20260425T120110
CREATED:20250113T201433Z
LAST-MODIFIED:20250113T201433Z
UID:10001497-1744185600-1744189200@spiritandplace.org
SUMMARY:Spirit & Place Applicant Meeting (Zoom)
DESCRIPTION:Whether you have pitched an event idea for the Spirit & Place Festival in the past or are new to the process\, this informative 60-minute session will review what Spirit & Place is all about\, how the festival application process works\, and resources aimed to help you be successful! \nRegister by using the blue registration button below.
URL:https://spiritandplace.org/event/spirit-place-applicant-meeting-zoom/
CATEGORIES:Community Conversation
LOCATION:
END:VEVENT
BEGIN:VEVENT
DTSTART;TZID=America/Indiana/Indianapolis:20250411T120000
DTEND;TZID=America/Indiana/Indianapolis:20250411T140000
DTSTAMP:20260425T120110
CREATED:20250124T021933Z
LAST-MODIFIED:20250124T021933Z
UID:10001500-1744372800-1744380000@spiritandplace.org
SUMMARY:Big Tent Talks & Thomas H. Lake Lecture: Remaking the Commons
DESCRIPTION:At this crucial moment\, when homelessness is exploding\, affordable housing is diminishing\, and segregated communities are increasingly common\, we need to ask the question – “Are our built environments fundamentally immoral?” In this year’s talk\, Dr. Jennings will present on “Remaking the Commons: Forming a Moral Imagination for Possession and Philanthropy in Place.” \nAs a renowned theologian who teaches in the areas of Christian thought\, race theory\, decolonial and environmental studies\, Dr. Willie Jennings will explore how a faithful practice of giving might build new realities of community in our towns and cities. Dr. Jennings is the Andrew W. Mellon Professor of Theology and Africana Studies at Yale University Divinity School. \nThis event is free and open to the public. The in-person lecture will take place at Witherspoon Presbyterian Church (3535 W Kessler Blvd N Dr\, Indianapolis\, IN 46222) with a reception to follow. \nThe lecture will also be available to view live online. Registration is required to attend online and in person and you will make your selection when you register. \nFor questions\, please contact lfi@iu.edu. \n* Named in honor of Thomas H. Lake\, this annual lecture hosted by Lake Institute on Faith & Giving\, part of the IU Lilly Family School of Philanthropy\, invites a noted scholar or thought leader to speak on a topic related to faith and giving. This year’s lecture is in partnership with Spirit & Place as part of their Big Tent Talks series. Big Tent Talks presents notable and inspirational speakers focused on faith and spirituality.
URL:https://spiritandplace.org/event/big-tent-talks-thomas-h-lake-lecture-remaking-the-commons/
LOCATION:Witherspoon Presbyterian Church\, 3535 W. Kessler Blvd. N. Dr.\, Indianapolis\, IN\, 46222\, United States
CATEGORIES:Community Conversation
GEO:39.8455638;-86.1912371
X-APPLE-STRUCTURED-LOCATION;VALUE=URI;X-ADDRESS=Witherspoon Presbyterian Church 3535 W. Kessler Blvd. N. Dr. Indianapolis IN 46222 United States;X-APPLE-RADIUS=500;X-TITLE=3535 W. Kessler Blvd. N. Dr.:geo:-86.1912371,39.8455638
END:VEVENT
END:VCALENDAR