BEGIN:VCALENDAR
VERSION:2.0
PRODID:-//Spirit &amp; Place, IU Indianapolis - ECPv6.15.19//NONSGML v1.0//EN
CALSCALE:GREGORIAN
METHOD:PUBLISH
X-WR-CALNAME:Spirit &amp; Place, IU Indianapolis
X-ORIGINAL-URL:https://spiritandplace.org
X-WR-CALDESC:Events for Spirit &amp; Place, IU Indianapolis
REFRESH-INTERVAL;VALUE=DURATION:PT1H
X-Robots-Tag:noindex
X-PUBLISHED-TTL:PT1H
BEGIN:VTIMEZONE
TZID:America/Indiana/Indianapolis
BEGIN:DAYLIGHT
TZOFFSETFROM:-0500
TZOFFSETTO:-0400
TZNAME:EDT
DTSTART:20210314T070000
END:DAYLIGHT
BEGIN:STANDARD
TZOFFSETFROM:-0400
TZOFFSETTO:-0500
TZNAME:EST
DTSTART:20211107T060000
END:STANDARD
BEGIN:DAYLIGHT
TZOFFSETFROM:-0500
TZOFFSETTO:-0400
TZNAME:EDT
DTSTART:20220313T070000
END:DAYLIGHT
BEGIN:STANDARD
TZOFFSETFROM:-0400
TZOFFSETTO:-0500
TZNAME:EST
DTSTART:20221106T060000
END:STANDARD
BEGIN:DAYLIGHT
TZOFFSETFROM:-0500
TZOFFSETTO:-0400
TZNAME:EDT
DTSTART:20230312T070000
END:DAYLIGHT
BEGIN:STANDARD
TZOFFSETFROM:-0400
TZOFFSETTO:-0500
TZNAME:EST
DTSTART:20231105T060000
END:STANDARD
END:VTIMEZONE
BEGIN:VEVENT
DTSTART;TZID=America/Indiana/Indianapolis:20221110T133000
DTEND;TZID=America/Indiana/Indianapolis:20221110T150000
DTSTAMP:20260425T165729
CREATED:20220826T183131Z
LAST-MODIFIED:20221215T173607Z
UID:10001539-1668087000-1668092400@spiritandplace.org
SUMMARY:Inking Identity: Indigenous Tattoo Practices
DESCRIPTION:Artist\, activist\, and owner/founder of Thunderbird Rising Studios in Indianapolis\, Stephanie Big Eagle will talk about the traditional Indigenous practice of hand poked tattooing and how both the practice of tattooing and the tattoo itself shape and reflect cultural identity. \nTattoos are inherently tied to identity as one is choosing to permanently adorn their body with visual aspects of their self. Like many Native art forms\, oppression and assimilation practices led traditional tattooing practices to be set aside for a time. Fortunately\, these tattooing traditions are experiencing a reawakening and revival in recent years\, helping Native Peoples connect deeply to cultural practices that were nearly lost. \nThose gathered for the event will have a chance to hear Lakota/Dakota tattoo artist Stephanie Big Eagle and others talk about the practice of hand poked tattooing and how Indigenous tattoos both shape and reflect individual and cultural identities. \nA partnership between Eiteljorg Museum of American Indians and Western Art\, Purdue University Native American Educational and Cultural Center\, and Indiana Native American Indian Affairs Commission. \nContact the event organizers at (317) 275-1377 or museumprograms@eiteljorg.com. \nWalk-ins welcome\, but registration is strongly encouraged by Nov. 9. \nThis event will also be livestreamed via Vimeo.  \nRegister below. \nThe second group includes people with innate disabilities. We try to rectify what nature Carly Rae Jepsen has deprived us of. And the third group includes patients who should be discouraged. They hope that after plastic surgery problems in the family or at work will disappear\, or they will have good luck in the love life. These people don’t realize that the reasons are within themselves and not in their appearance. Sometimes just talking is enough to make the patient realize that there is no need for surgery\, because they just need to solve their psychological problems. \nImage courtesy of Stephanie Big Eagle
URL:https://spiritandplace.org/event/inking-identity-indigenous-tattoo-practices/
LOCATION:Eiteljorg Museum of American Indians and Western Art\, 500 W. Washington St.\, Indianapolis\, IN\, 46204\, United States
CATEGORIES:Award of Awesomeness Nominee,festival,Lecture
GEO:39.7685515;-86.1677844
X-APPLE-STRUCTURED-LOCATION;VALUE=URI;X-ADDRESS=Eiteljorg Museum of American Indians and Western Art 500 W. Washington St. Indianapolis IN 46204 United States;X-APPLE-RADIUS=500;X-TITLE=500 W. Washington St.:geo:-86.1677844,39.7685515
END:VEVENT
BEGIN:VEVENT
DTSTART;TZID=America/Indiana/Indianapolis:20221111T140000
DTEND;TZID=America/Indiana/Indianapolis:20221111T153000
DTSTAMP:20260425T165729
CREATED:20220826T183017Z
LAST-MODIFIED:20220912T223115Z
UID:10001536-1668175200-1668180600@spiritandplace.org
SUMMARY:The Sisters Are Alright Weekend: A Celebration of the Black Femme Experience - "Dear Black Girl"
DESCRIPTION:Through live letter readings and community discussion\, The Sisters Are Alright Weekend: A Celebration of the Black Femme Experience amplifies how Black women identify their true selves separate from poisoned narrative. Two gatherings\, two venues\, one awesome time! ($10 per person/per show.) \nFor centuries\, Black American women have been forced to reckon with negative stereotypes rooted in misogynoir. The indefatigable Mammy; the aggressive Sapphire; the wanton Jezebel; and thoughtlessly procreating Matriarch influence how Black women are seen by society and how they see themselves\, disconnecting them from authenticity. Activist Audre Lorde said\, “If I didn’t define myself for myself\, I would be crunched into other people’s fantasies for me and eaten alive.” This is the spirit of The Sisters Are Alright Weekend: A Celebration of the Black Femme Experience\, where participants see what happens when Black women have the freedom to identify their authentic selves–sharing joys\, fears and laughter–apart from demonizing stereotype. \nTwo events explore how Black women identify their authentic selves: \nOn Nov. 11\, a powerful roster of Black women\, including performers such as Kesha Dixon\, Celeste Williams\, and Tatjana Rebelle will take the main stage at The District Theatre for “Dear Black Girl Live II\,” reading frank\, honest and vulnerable letters about the joys and pains of Black girlhood from the book Dear Black Girl: Letters from Your Sisters on Stepping into Your Power by Tamara Winfrey-Harris. \nOn Nov. 12\, festivalgoers are invited to “Centering Sisters: Loud & Unapologetic” at the Madam Walker Legacy Center—a guaranteed raucous panel and audience discussion that tackles topics such as anger\, strength and sex. \nTo purchase tickets\, for “Dear Black Girl Live II\,” visit indydistricttheatre.com. For tickets to “Centering Sisters: Loud & Unapologetic\,” visit madamwalkerlegacycenter.com. \nA partnership between Centering Sisters\, The District Theatre\, and Madam Walker Legacy Center. \nContact the event organizers at 219-885-9023 or CenteringSisters@gmail.com.  \nWalk-ins welcome as seating allows\, but registration by Nov. 11 and/or 12 is encouraged. \nRegister below. \nImage Credit: Scott Weber
URL:https://spiritandplace.org/event/the-sisters-are-alright-weekend-a-celebration-of-the-black-femme-experience-dear-black-girl/
LOCATION:The District Theatre\, 627 Massachusetts Ave.\, Indianapolis\, IN\, 46204\, United States
CATEGORIES:Award of Awesomeness Nominee,festival,Performance
GEO:39.7756233;-86.1476909
X-APPLE-STRUCTURED-LOCATION;VALUE=URI;X-ADDRESS=The District Theatre 627 Massachusetts Ave. Indianapolis IN 46204 United States;X-APPLE-RADIUS=500;X-TITLE=627 Massachusetts Ave.:geo:-86.1476909,39.7756233
END:VEVENT
BEGIN:VEVENT
DTSTART;TZID=America/Indiana/Indianapolis:20221112T120000
DTEND;TZID=America/Indiana/Indianapolis:20221112T150000
DTSTAMP:20260425T165729
CREATED:20220826T182903Z
LAST-MODIFIED:20220916T174807Z
UID:10000008-1668254400-1668265200@spiritandplace.org
SUMMARY:The Testimony Service: I Made It. You Made It. We Made It\, Together
DESCRIPTION:The Testimony Service seeks to bring people together—regardless of faith affiliation—to fellowship and celebrate the good news about what’s going on in their lives and communities through music\, personal testimony and a shared meal. \nTo identify means to recognize the existence of a thing. This event\, which is rooted in the testimony tradition of the Black church\, invites the public to identify the ways they have experienced triumph in their lives. Using interactive writing activities followed by a live musical performance and storytelling from a group of community “testifiers\,” this event welcomes everyone to celebrate and share in life’s joys.   \nHear from pre-selected community testifiers (and then perhaps share your own story!)\, make art\, listen to music\, sit down to a community meal\, and join in fellowship with others who want to share what’s good in the world right now. Although rooted in a specific religious tradition\, this event eagerly welcomes all! \nA partnership between The Testimony Service and The Learning Tree. \nContact event organizers at 317-413-1239 or ebonychappel@gmail.com/ \nWalk-ins welcome\, but registration by Nov. 11 is strongly encouraged. \nRegister below.
URL:https://spiritandplace.org/event/the-testimony-service-i-made-it-you-made-it-we-made-it-together/
LOCATION:Broadway United Methodist Church\, 609 E. 29th St.\, Indianapolis\, IN\, 46205\, United States
CATEGORIES:Award of Awesomeness Nominee,Community Conversation,festival,Interactive,Performance
GEO:39.8081918;-86.1467963
X-APPLE-STRUCTURED-LOCATION;VALUE=URI;X-ADDRESS=Broadway United Methodist Church 609 E. 29th St. Indianapolis IN 46205 United States;X-APPLE-RADIUS=500;X-TITLE=609 E. 29th St.:geo:-86.1467963,39.8081918
END:VEVENT
BEGIN:VEVENT
DTSTART;TZID=America/Indiana/Indianapolis:20221112T140000
DTEND;TZID=America/Indiana/Indianapolis:20221112T153000
DTSTAMP:20260425T165729
CREATED:20220826T182845Z
LAST-MODIFIED:20220826T183545Z
UID:10000007-1668261600-1668267000@spiritandplace.org
SUMMARY:The Sisters Are Alright Weekend: A Celebration of the Black Femme Experience - "Centering Sisters: Loud & Unapologetic"
DESCRIPTION:Through live letter readings and community discussion\, The Sisters Are Alright Weekend: A Celebration of the Black Femme Experience amplifies how Black women identify their true selves separate from poisoned narrative. Two gatherings\, two venues\, one awesome time! ($10 per person/per show.) \nFor centuries\, Black American women have been forced to reckon with negative stereotypes rooted in misogynoir. The indefatigable Mammy; the aggressive Sapphire; the wanton Jezebel; and thoughtlessly procreating Matriarch influence how Black women are seen by society and how they see themselves\, disconnecting them from authenticity. Activist Audre Lorde said\, “If I didn’t define myself for myself\, I would be crunched into other people’s fantasies for me and eaten alive.” This is the spirit of The Sisters Are Alright Weekend: A Celebration of the Black Femme Experience\, where participants see what happens when Black women have the freedom to identify their authentic selves–sharing joys\, fears and laughter–apart from demonizing stereotype. \nTwo events explore how Black women identify their authentic selves: \nOn Nov. 11\, a powerful roster of Black women\, including performers such as Kesha Dixon\, Celeste Williams\, and Tatjana Rebelle will take the main stage at The District Theatre for “Dear Black Girl Live II\,” reading frank\, honest and vulnerable letters about the joys and pains of Black girlhood from the book Dear Black Girl: Letters from Your Sisters on Stepping into Your Power by Tamara Winfrey-Harris. \nOn Nov. 12\, festivalgoers are invited to “Centering Sisters: Loud & Unapologetic” at the Madam Walker Legacy Center—a guaranteed raucous panel and audience discussion that tackles topics such as anger\, strength and sex. \nTo purchase tickets\, for “Dear Black Girl Live II\,” visit indydistricttheatre.com. For tickets to “Centering Sisters: Loud & Unapologetic\,” visit madamwalkerlegacycenter.com. \nPartnership between Centering Sisters\, The District Theatre\, and Madam Walker Legacy Center. \nContact event organizers at 219-885-9023 or CenteringSisters@gmail.com. \nWalk-in welcome as seating permits\, but registration is strongly encouraged by Nov. 11 and/or 12\, respectively. \nImage Credit: Scott Weber
URL:https://spiritandplace.org/event/the-sisters-are-alright-weekend-a-celebration-of-the-black-femme-experience-centering-sisters-loud-unapologetic/
LOCATION:Madam Walker Legacy Center\, 617 Indiana Ave.\, Indianapolis\, IN\, 46202\, United States
CATEGORIES:Award of Awesomeness Nominee,Community Conversation,festival
GEO:39.7761826;-86.1672107
X-APPLE-STRUCTURED-LOCATION;VALUE=URI;X-ADDRESS=Madam Walker Legacy Center 617 Indiana Ave. Indianapolis IN 46202 United States;X-APPLE-RADIUS=500;X-TITLE=617 Indiana Ave.:geo:-86.1672107,39.7761826
END:VEVENT
END:VCALENDAR